BEGIN:VCALENDAR
VERSION:2.0
PRODID:gruenege.de
METHOD:PUBLISH
BEGIN:VTIMEZONE
TZID:Europe/Berlin
X-LIC-LOCATION:Europe/Berlin
BEGIN:DAYLIGHT
TZOFFSETFROM:+0100
TZOFFSETTO:+0200
TZNAME:CEST
DTSTART:19700329T020000
RRULE:FREQ=YEARLY;INTERVAL=1;BYDAY=-1SU;BYMONTH=3
END:DAYLIGHT
BEGIN:STANDARD
TZOFFSETFROM:+0200
TZOFFSETTO:+0100
TZNAME:CET
DTSTART:19701025T030000
RRULE:FREQ=YEARLY;INTERVAL=1;BYDAY=-1SU;BYMONTH=10
END:STANDARD
END:VTIMEZONE
BEGIN:VEVENT
UID:26e9ade9c346857f7325ff3422d0efad@gruenege.de
URL;VALUE=URI:https://gruenege.de/termine/heraus-heraus/
LOCATION:Stadtgarten Gelsenkirchen, Zeppelinallee 51, Gelsenkirchen
SUMMARY:„Heraus, heraus !“
DESCRIPTION;ALTREP="data:text/html,%0A%3Cp%3E%3Cstrong%3EAm%201.%20Mai%20
 feiern%20wir%20den%20Internationalen%20Tag%20der%20Arbeit%2C%20einen%20be
 sonderen%20Tag%2C%20der%20nicht%20nur%20den%20Arbeitnehmer%3Ainnen%20gewi
 dmet%20ist%2C%20sondern%20auch%20f%C3%BCr%20Solidarit%C3%A4t%2C%20Gerecht
 igkeit%20und%20Demokratie%20steht.%3C%2Fstrong%3E%3C%2Fp%3E%0A%0A%0A%0A%3
 Cp%3EDer%201.%20Mai%20erinnert%20uns%20an%20die%20Errungenschaften%20der%
 20Arbeiterbewegung.%20Durch%20unsere%20Teilnahme%20an%20Demonstrationen%2
 0und%20Kundgebungen%20setzen%20wir%20ein%20Zeichen%20f%C3%BCr%20die%20Rec
 hte%20aller%20Besch%C3%A4ftigten%20und%20fordern%20faire%20Arbeitsbedingu
 ngen%2C%20gerechte%20L%C3%B6hne%20und%20soziale%20Sicherheit.%20An%20dies
 em%20Tag%20versammeln%20sich%20Menschen%20aus%20verschiedenen%20Berufen%2
 0und%20sozialen%20Schichten%2C%20um%20gemeinsam%20f%C3%BCr%20ein%20besser
 es%20Leben%20zu%20k%C3%A4mpfen.%20Solidarit%C3%A4t%20bedeutet%2C%20dass%2
 0wir%20uns%20gegenseitig%20unterst%C3%BCtzen%20und%20f%C3%BCr%20die%20Bel
 ange%20aller%20eintreten%2C%20insbesondere%20f%C3%BCr%20die%20Schw%C3%A4c
 heren%20in%20unserer%20Gesellschaft.%3Cbr%3EDer%201.%20Mai%20ist%20aber%2
 0auch%20ein%20Tag%2C%20um%20f%C3%BCr%20unsere%20demokratischen%20Werte%20
 einzustehen.%20In%20vielen%20L%C3%A4ndern%20sind%20diese%20Werte%20bedroh
 t%2C%20und%20es%20liegt%20an%20uns%2C%20f%C3%BCr%20Freiheit%2C%20Gleichhe
 it%20und%20die%20Rechte%20aller%20Menschen%20einzutreten.%20Indem%20wir%2
 0unsere%20Stimmen%20erheben%2C%20st%C3%A4rken%20wir%20die%20Demokratie%20
 und%20zeigen%2C%20dass%20wir%20uns%20nicht%20mit%20weniger%20als%20unsere
 n%20grundlegenden%20Rechten%20zufriedengeben.%3C%2Fp%3E%0A%0A%0A%0A%3Cp%3
 EAlso%2C%20es%20gilt%20gemeinsam%20ein%20starkes%20Zeichen%20setzen%21%20
 Kommt%20zu%20den%20Demonstrationen%20und%20Kundgebungen%2C%20bringt%20eur
 e%20Freunde%20und%20Familien%20mit%20und%20zeigt%2C%20dass%20wir%20f%C3%B
 Cr%20eine%20gerechte%20und%20solidarische%20Gesellschaft%20stehen.%20Jede
 r%20von%20uns%20z%C3%A4hlt%20%E2%80%93%20f%C3%BCr%20Arbeit%2C%20Solidarit
 %C3%A4t%20und%20Demokratie%21%3C%2Fp%3E%0A%0A%0A%0A%3Cp%3E%3Cstrong%3Eab%
 2010%3A30%3Cbr%3EDemonstrationszug%3C%2Fstrong%3E%3Cbr%3EMargarete-Zingle
 r-Platz%3C%2Fp%3E%0A%0A%0A%0A%3Cp%3E%3Cstrong%3Eab%2011%3A15%3Cbr%3EKundg
 ebung%20%26amp%3B%20Familienfest%3C%2Fstrong%3E%3Cbr%3EStadtgarten%2C%20M
 usikpavillon%3C%2Fp%3E%0A%0A%0A%0A%3Cp%3E%F0%9F%92%9AGr%C3%BCner%20Info-S
 tand%20im%20Stadtgarten%F0%9F%92%9A%3C%2Fp%3E%0A%0A%0A%0A%3Cp%3E%3C%2Fp%3
 E%0A":Am 1. Mai feiern wir den Internationalen Tag der Arbeit\, einen bes
 onderen Tag\, der nicht nur den Arbeitnehmer:innen gewidmet ist\, sondern
  auch für Solidarität\, Gerechtigkeit und Demokratie steht.\n\nDer 1. M
 ai erinnert uns an die Errungenschaften der Arbeiterbewegung. Durch unser
 e Teilnahme an Demonstrationen und Kundgebungen setzen wir ein Zeichen f
 ür die Rechte aller Beschäftigten und fordern faire Arbeitsbedingungen\
 , gerechte Löhne und soziale Sicherheit. An diesem Tag versammeln sich M
 enschen aus verschiedenen Berufen und sozialen Schichten\, um gemeinsam f
 ür ein besseres Leben zu kämpfen. Solidarität bedeutet\, dass wir uns 
 gegenseitig unterstützen und für die Belange aller eintreten\, insbeson
 dere für die Schwächeren in unserer Gesellschaft.Der 1. Mai ist aber au
 ch ein Tag\, um für unsere demokratischen Werte einzustehen. In vielen L
 ändern sind diese Werte bedroht\, und es liegt an uns\, für Freiheit\, 
 Gleichheit und die Rechte aller Menschen einzutreten. Indem wir unsere St
 immen erheben\, stärken wir die Demokratie und zeigen\, dass wir uns nic
 ht mit weniger als unseren grundlegenden Rechten zufriedengeben.\n\nAlso\
 , es gilt gemeinsam ein starkes Zeichen setzen! Kommt zu den Demonstratio
 nen und Kundgebungen\, bringt eure Freunde und Familien mit und zeigt\, d
 ass wir für eine gerechte und solidarische Gesellschaft stehen. Jeder vo
 n uns zählt – für Arbeit\, Solidarität und Demokratie!\n\nab 10:30De
 monstrationszugMargarete-Zingler-Platz\n\nab 11:15Kundgebung & Familienfe
 stStadtgarten\, Musikpavillon\n\n💚Grüner Info-Stand im Stadtgarten
 💚
CLASS:PUBLIC
DTSTART;TZID=Europe/Berlin:20260501T103000
DTEND;TZID=Europe/Berlin:20260501T113000
DTSTAMP:20260424T151401
END:VEVENT
END:VCALENDAR