BEGIN:VCALENDAR
VERSION:2.0
PRODID:gruenege.de
METHOD:PUBLISH
BEGIN:VTIMEZONE
TZID:Europe/Berlin
X-LIC-LOCATION:Europe/Berlin
BEGIN:DAYLIGHT
TZOFFSETFROM:+0100
TZOFFSETTO:+0200
TZNAME:CEST
DTSTART:19700329T020000
RRULE:FREQ=YEARLY;INTERVAL=1;BYDAY=-1SU;BYMONTH=3
END:DAYLIGHT
BEGIN:STANDARD
TZOFFSETFROM:+0200
TZOFFSETTO:+0100
TZNAME:CET
DTSTART:19701025T030000
RRULE:FREQ=YEARLY;INTERVAL=1;BYDAY=-1SU;BYMONTH=10
END:STANDARD
END:VTIMEZONE
BEGIN:VEVENT
UID:9758ee889bc7dac06e6cd00fbb0590b1@gruenege.de
URL;VALUE=URI:https://gruenege.de/termine/themenabend-balkonkraftwerk/
LOCATION:Grünes Zentrum, Ebertstr. 28, Gelsenkirchen
SUMMARY:Themenabend: Balkonkraftwerk
DESCRIPTION;ALTREP="data:text/html,%0A%3Cp%3E%F0%9F%8C%BF%20%3Cstrong%3ES
 trom%20selbst%20machen%2C%20aber%20richtig%21%3C%2Fstrong%3E%20%F0%9F%8C%
 9E%3Cbr%3EThemenabend%3A%20Balkonkraftwerke%20%E2%80%93%20klein%2C%20aber
 %20oho%21%3C%2Fp%3E%0A%0A%0A%0A%3Cp%3EAndreas%20wei%C3%9F%2C%20wie%E2%80%
 99s%20geht%3A%20Er%20zeigt%20uns%2C%20wie%20man%20mit%20Balkonkraftwerken
 %20nicht%20nur%20die%20Stromrechnung%20dr%C3%BCckt%2C%20sondern%20auch%20
 noch%20das%20Klima%20rettet.%20Und%20das%20ganz%20ohne%20Atomkraftwerk%20
 im%20Garten.%20%F0%9F%98%89%20Ob%20Mieter%3Ain%20oder%20Hausbesitzer%3Ain
 %2C%20ob%20Technik-Fan%20oder%20Neuling%2C%20hier%20gibt%E2%80%99s%20Info
 s%2C%20Tipps%20und%20Antworten%20auf%20eure%20Fragen%21%3Cbr%3E%3C%2Fp%3E
 %0A%0A%0A%0A%3Cp%3E%3Cstrong%3EKommt%20vorbei%2C%20bringt%20Fragen%20und%
 20Freund%3Ainnen%20mit%20und%20lasst%20uns%20gemeinsam%20die%20Energiewen
 de%20auf%20den%20Balkon%20holen%21%3C%2Fstrong%3E%3C%2Fp%3E%0A%0A%0A%0A%3
 Cp%3E%3C%2Fp%3E%0A":🌿 Strom selbst machen\, aber richtig! 🌞Themenab
 end: Balkonkraftwerke – klein\, aber oho!\n\nAndreas weiß\, wie’s ge
 ht: Er zeigt uns\, wie man mit Balkonkraftwerken nicht nur die Stromrechn
 ung drückt\, sondern auch noch das Klima rettet. Und das ganz ohne Atomk
 raftwerk im Garten. 😉 Ob Mieter:in oder Hausbesitzer:in\, ob Technik-F
 an oder Neuling\, hier gibt’s Infos\, Tipps und Antworten auf eure Frag
 en!\n\nKommt vorbei\, bringt Fragen und Freund:innen mit und lasst uns ge
 meinsam die Energiewende auf den Balkon holen!
CLASS:PUBLIC
DTSTART;TZID=Europe/Berlin:20260427T183000
DTEND;TZID=Europe/Berlin:20260427T193000
DTSTAMP:20260424T153020
END:VEVENT
END:VCALENDAR