BEGIN:VCALENDAR
VERSION:2.0
PRODID:gruenege.de
METHOD:PUBLISH
BEGIN:VTIMEZONE
TZID:Europe/Berlin
X-LIC-LOCATION:Europe/Berlin
BEGIN:DAYLIGHT
TZOFFSETFROM:+0100
TZOFFSETTO:+0200
TZNAME:CEST
DTSTART:19700329T020000
RRULE:FREQ=YEARLY;INTERVAL=1;BYDAY=-1SU;BYMONTH=3
END:DAYLIGHT
BEGIN:STANDARD
TZOFFSETFROM:+0200
TZOFFSETTO:+0100
TZNAME:CET
DTSTART:19701025T030000
RRULE:FREQ=YEARLY;INTERVAL=1;BYDAY=-1SU;BYMONTH=10
END:STANDARD
END:VTIMEZONE
BEGIN:VEVENT
UID:c9c4837e21828438bb15be0fc09644be@gruenege.de
URL;VALUE=URI:https://gruenege.de/termine/welt-grob-umrissen-ausstellung-
 im-landtag/
LOCATION:Landtag NRW - Grünes Foyer, Platz des Landtags 1, Düsseldorf
SUMMARY:„Welt, grob umrissen“ – Ausstellung im Landtag
DESCRIPTION;ALTREP="data:text/html,%0A%3Cp%3E%3Cstrong%3EChristoph%20Lamm
 ert%20%3C%2Fstrong%3Eerschafft%20sich%20Welten%20auf%20Leinwand%20und%20P
 apier%20in%20einer%20direkten%20malerischen%20Sprache.%20Nahezu%20alle%20
 Arbeiten%20der%20Ausstellung%20erwecken%20beim%20Betrachter%20auf%20den%2
 0ersten%20Blick%20Assoziationen%20an%20Landschaft.%20Wir%20glauben%20Fels
 formationen%2C%20Gew%C3%A4sser%2C%20Fl%C3%BCsse%2C%20Himmel%20usw.%20mal%
 20als%20Ansicht%2C%20mal%20in%20Aufsicht%20aus%20der%20Perspektive%20eine
 s%20Kartographen%20oder%20Satelliten%20zu%20erkennen.%20In%20kraftvoller%
 2C%20mitunter%20ausgesprochen%20pastoser%20Farbgebung%2C%20die%20der%20Bi
 ldoberfl%C3%A4che%20eine%20geradezu%20reliefartige%20Haptik%20verleiht%2C
 %20werden%20landschafts%C3%A4hnliche%20Sujets%20inszeniert.%20Dennoch%20i
 st%20die%20Malerei%20von%20Christoph%20Lammert%20nicht%20eine%2C%20die%20
 den%20Betrachter%20prim%C3%A4r%20mit%20den%20Gewissheiten%20des%20Wiedere
 rkennens%20belohnen%20m%C3%B6chte.%3C%2Fp%3E%0A%0A%0A%0A%3Cp%3E%3Cstrong%
 3EDie%20Gr%C3%BCnen%20im%20Landtag%20laden%20herzlich%20zur%20Vernissage%
 20der%20Ausstellung%20mit%20Arbeiten%20von%20Christoph%20Lammert%20am%201
 4.%20April%202026%20um%2014%3A30%20Uhr%20ein.%20Die%20Vernissage%20findet
 %20im%20Foyer%20der%20Landtagsfraktion%20der%20Gr%C3%BCnen%20statt.%3C%2F
 strong%3E%3C%2Fp%3E%0A%0A%0A%0A%3Cp%3E%3C%2Fp%3E%0A%0A%0A%0A%3Cp%3E%3Cstr
 ong%3EANMELDUNG%3A%20%3C%2Fstrong%3EDer%20Einlass%20erfolgt%20nur%20nach%
 20Voranmeldung%20unter%20Angabe%20von%20Name%2C%20Adresse%20und%20ggf.%20
 Kfz-Kennzeichen%20bis%20zum%2012.%20April%2C%2014%20Uhr%20bei%20thomas.bo
 erger%40landtag.nrw.de.%3C%2Fp%3E%0A%0A%0A%0A%3Cp%3E%3C%2Fp%3E%0A%0A%0A%0
 A%3Cp%3E%3Cstrong%3E%3Ca%20href%3D%22https%3A%2F%2Fwww.landtag.nrw.de%2Fh
 ome%2Fubersichtsseite%2Findividuelle-besuche-.html%22%20target%3D%22_blan
 k%22%20rel%3D%22noreferrer%20noopener%22%3EInfos%20zum%20Besuch%20des%20L
 andtags%20und%20der%20Ausstellung%20hier%3C%2Fa%3E%3C%2Fstrong%3E%3C%2Fp%
 3E%0A%0A%0A%0A%3Cp%3E%3C%2Fp%3E%0A":Christoph Lammert erschafft sich Welt
 en auf Leinwand und Papier in einer direkten malerischen Sprache. Nahezu 
 alle Arbeiten der Ausstellung erwecken beim Betrachter auf den ersten Bli
 ck Assoziationen an Landschaft. Wir glauben Felsformationen\, Gewässer\,
  Flüsse\, Himmel usw. mal als Ansicht\, mal in Aufsicht aus der Perspekt
 ive eines Kartographen oder Satelliten zu erkennen. In kraftvoller\, mitu
 nter ausgesprochen pastoser Farbgebung\, die der Bildoberfläche eine ger
 adezu reliefartige Haptik verleiht\, werden landschaftsähnliche Sujets i
 nszeniert. Dennoch ist die Malerei von Christoph Lammert nicht eine\, die
  den Betrachter primär mit den Gewissheiten des Wiedererkennens belohnen
  möchte.\n\nDie Grünen im Landtag laden herzlich zur Vernissage der Aus
 stellung mit Arbeiten von Christoph Lammert am 14. April 2026 um 14:30 Uh
 r ein. Die Vernissage findet im Foyer der Landtagsfraktion der Grünen st
 att.\n\nANMELDUNG: Der Einlass erfolgt nur nach Voranmeldung unter Angabe
  von Name\, Adresse und ggf. Kfz-Kennzeichen bis zum 12. April\, 14 Uhr b
 ei thomas.boerger@landtag.nrw.de.\n\nInfos zum Besuch des Landtags und de
 r Ausstellung hier
CLASS:PUBLIC
DTSTART;TZID=Europe/Berlin:20260407
DTEND;TZID=Europe/Berlin:20260429
DTSTAMP:20260424T154000
END:VEVENT
BEGIN:VEVENT
UID:99d888edbe8833dc30f0a1c261545413@gruenege.de
URL;VALUE=URI:https://gruenege.de/termine/themenabend-balkonkraftwerk/
LOCATION:Grünes Zentrum, Ebertstr. 28, Gelsenkirchen
SUMMARY:Themenabend: Balkonkraftwerk
DESCRIPTION;ALTREP="data:text/html,%0A%3Cp%3E%F0%9F%8C%BF%20%3Cstrong%3ES
 trom%20selbst%20machen%2C%20aber%20richtig%21%3C%2Fstrong%3E%20%F0%9F%8C%
 9E%3Cbr%3EThemenabend%3A%20Balkonkraftwerke%20%E2%80%93%20klein%2C%20aber
 %20oho%21%3C%2Fp%3E%0A%0A%0A%0A%3Cp%3EAndreas%20wei%C3%9F%2C%20wie%E2%80%
 99s%20geht%3A%20Er%20zeigt%20uns%2C%20wie%20man%20mit%20Balkonkraftwerken
 %20nicht%20nur%20die%20Stromrechnung%20dr%C3%BCckt%2C%20sondern%20auch%20
 noch%20das%20Klima%20rettet.%20Und%20das%20ganz%20ohne%20Atomkraftwerk%20
 im%20Garten.%20%F0%9F%98%89%20Ob%20Mieter%3Ain%20oder%20Hausbesitzer%3Ain
 %2C%20ob%20Technik-Fan%20oder%20Neuling%2C%20hier%20gibt%E2%80%99s%20Info
 s%2C%20Tipps%20und%20Antworten%20auf%20eure%20Fragen%21%3Cbr%3E%3C%2Fp%3E
 %0A%0A%0A%0A%3Cp%3E%3Cstrong%3EKommt%20vorbei%2C%20bringt%20Fragen%20und%
 20Freund%3Ainnen%20mit%20und%20lasst%20uns%20gemeinsam%20die%20Energiewen
 de%20auf%20den%20Balkon%20holen%21%3C%2Fstrong%3E%3C%2Fp%3E%0A%0A%0A%0A%3
 Cp%3E%3C%2Fp%3E%0A":🌿 Strom selbst machen\, aber richtig! 🌞Themenab
 end: Balkonkraftwerke – klein\, aber oho!\n\nAndreas weiß\, wie’s ge
 ht: Er zeigt uns\, wie man mit Balkonkraftwerken nicht nur die Stromrechn
 ung drückt\, sondern auch noch das Klima rettet. Und das ganz ohne Atomk
 raftwerk im Garten. 😉 Ob Mieter:in oder Hausbesitzer:in\, ob Technik-F
 an oder Neuling\, hier gibt’s Infos\, Tipps und Antworten auf eure Frag
 en!\n\nKommt vorbei\, bringt Fragen und Freund:innen mit und lasst uns ge
 meinsam die Energiewende auf den Balkon holen!
CLASS:PUBLIC
DTSTART;TZID=Europe/Berlin:20260427T183000
DTEND;TZID=Europe/Berlin:20260427T193000
DTSTAMP:20260424T154000
END:VEVENT
BEGIN:VEVENT
UID:53f7ac71c8cc679eb69009111a5f6436@gruenege.de
URL;VALUE=URI:https://gruenege.de/termine/heraus-heraus/
LOCATION:Stadtgarten Gelsenkirchen, Zeppelinallee 51, Gelsenkirchen
SUMMARY:„Heraus, heraus !“
DESCRIPTION;ALTREP="data:text/html,%0A%3Cp%3E%3Cstrong%3EAm%201.%20Mai%20
 feiern%20wir%20den%20Internationalen%20Tag%20der%20Arbeit%2C%20einen%20be
 sonderen%20Tag%2C%20der%20nicht%20nur%20den%20Arbeitnehmer%3Ainnen%20gewi
 dmet%20ist%2C%20sondern%20auch%20f%C3%BCr%20Solidarit%C3%A4t%2C%20Gerecht
 igkeit%20und%20Demokratie%20steht.%3C%2Fstrong%3E%3C%2Fp%3E%0A%0A%0A%0A%3
 Cp%3EDer%201.%20Mai%20erinnert%20uns%20an%20die%20Errungenschaften%20der%
 20Arbeiterbewegung.%20Durch%20unsere%20Teilnahme%20an%20Demonstrationen%2
 0und%20Kundgebungen%20setzen%20wir%20ein%20Zeichen%20f%C3%BCr%20die%20Rec
 hte%20aller%20Besch%C3%A4ftigten%20und%20fordern%20faire%20Arbeitsbedingu
 ngen%2C%20gerechte%20L%C3%B6hne%20und%20soziale%20Sicherheit.%20An%20dies
 em%20Tag%20versammeln%20sich%20Menschen%20aus%20verschiedenen%20Berufen%2
 0und%20sozialen%20Schichten%2C%20um%20gemeinsam%20f%C3%BCr%20ein%20besser
 es%20Leben%20zu%20k%C3%A4mpfen.%20Solidarit%C3%A4t%20bedeutet%2C%20dass%2
 0wir%20uns%20gegenseitig%20unterst%C3%BCtzen%20und%20f%C3%BCr%20die%20Bel
 ange%20aller%20eintreten%2C%20insbesondere%20f%C3%BCr%20die%20Schw%C3%A4c
 heren%20in%20unserer%20Gesellschaft.%3Cbr%3EDer%201.%20Mai%20ist%20aber%2
 0auch%20ein%20Tag%2C%20um%20f%C3%BCr%20unsere%20demokratischen%20Werte%20
 einzustehen.%20In%20vielen%20L%C3%A4ndern%20sind%20diese%20Werte%20bedroh
 t%2C%20und%20es%20liegt%20an%20uns%2C%20f%C3%BCr%20Freiheit%2C%20Gleichhe
 it%20und%20die%20Rechte%20aller%20Menschen%20einzutreten.%20Indem%20wir%2
 0unsere%20Stimmen%20erheben%2C%20st%C3%A4rken%20wir%20die%20Demokratie%20
 und%20zeigen%2C%20dass%20wir%20uns%20nicht%20mit%20weniger%20als%20unsere
 n%20grundlegenden%20Rechten%20zufriedengeben.%3C%2Fp%3E%0A%0A%0A%0A%3Cp%3
 EAlso%2C%20es%20gilt%20gemeinsam%20ein%20starkes%20Zeichen%20setzen%21%20
 Kommt%20zu%20den%20Demonstrationen%20und%20Kundgebungen%2C%20bringt%20eur
 e%20Freunde%20und%20Familien%20mit%20und%20zeigt%2C%20dass%20wir%20f%C3%B
 Cr%20eine%20gerechte%20und%20solidarische%20Gesellschaft%20stehen.%20Jede
 r%20von%20uns%20z%C3%A4hlt%20%E2%80%93%20f%C3%BCr%20Arbeit%2C%20Solidarit
 %C3%A4t%20und%20Demokratie%21%3C%2Fp%3E%0A%0A%0A%0A%3Cp%3E%3Cstrong%3Eab%
 2010%3A30%3Cbr%3EDemonstrationszug%3C%2Fstrong%3E%3Cbr%3EMargarete-Zingle
 r-Platz%3C%2Fp%3E%0A%0A%0A%0A%3Cp%3E%3Cstrong%3Eab%2011%3A15%3Cbr%3EKundg
 ebung%20%26amp%3B%20Familienfest%3C%2Fstrong%3E%3Cbr%3EStadtgarten%2C%20M
 usikpavillon%3C%2Fp%3E%0A%0A%0A%0A%3Cp%3E%F0%9F%92%9AGr%C3%BCner%20Info-S
 tand%20im%20Stadtgarten%F0%9F%92%9A%3C%2Fp%3E%0A%0A%0A%0A%3Cp%3E%3C%2Fp%3
 E%0A":Am 1. Mai feiern wir den Internationalen Tag der Arbeit\, einen bes
 onderen Tag\, der nicht nur den Arbeitnehmer:innen gewidmet ist\, sondern
  auch für Solidarität\, Gerechtigkeit und Demokratie steht.\n\nDer 1. M
 ai erinnert uns an die Errungenschaften der Arbeiterbewegung. Durch unser
 e Teilnahme an Demonstrationen und Kundgebungen setzen wir ein Zeichen f
 ür die Rechte aller Beschäftigten und fordern faire Arbeitsbedingungen\
 , gerechte Löhne und soziale Sicherheit. An diesem Tag versammeln sich M
 enschen aus verschiedenen Berufen und sozialen Schichten\, um gemeinsam f
 ür ein besseres Leben zu kämpfen. Solidarität bedeutet\, dass wir uns 
 gegenseitig unterstützen und für die Belange aller eintreten\, insbeson
 dere für die Schwächeren in unserer Gesellschaft.Der 1. Mai ist aber au
 ch ein Tag\, um für unsere demokratischen Werte einzustehen. In vielen L
 ändern sind diese Werte bedroht\, und es liegt an uns\, für Freiheit\, 
 Gleichheit und die Rechte aller Menschen einzutreten. Indem wir unsere St
 immen erheben\, stärken wir die Demokratie und zeigen\, dass wir uns nic
 ht mit weniger als unseren grundlegenden Rechten zufriedengeben.\n\nAlso\
 , es gilt gemeinsam ein starkes Zeichen setzen! Kommt zu den Demonstratio
 nen und Kundgebungen\, bringt eure Freunde und Familien mit und zeigt\, d
 ass wir für eine gerechte und solidarische Gesellschaft stehen. Jeder vo
 n uns zählt – für Arbeit\, Solidarität und Demokratie!\n\nab 10:30De
 monstrationszugMargarete-Zingler-Platz\n\nab 11:15Kundgebung & Familienfe
 stStadtgarten\, Musikpavillon\n\n💚Grüner Info-Stand im Stadtgarten
 💚
CLASS:PUBLIC
DTSTART;TZID=Europe/Berlin:20260501T103000
DTEND;TZID=Europe/Berlin:20260501T113000
DTSTAMP:20260424T154000
END:VEVENT
BEGIN:VEVENT
UID:0212a45d7f34b24af833a4cc5e405880@gruenege.de
URL;VALUE=URI:https://gruenege.de/termine/vielfaltskongress-in-gelsenkirc
 hen/
LOCATION:Gesamtschule Gelsenkirchen-Bismarck, Laarstr. 41, Gelsenkirchen
SUMMARY:UPDATE:  „Ideen. Vielfalt.“ – Vielfaltskongress in Gelsenki
 rchen
DESCRIPTION;ALTREP="data:text/html,%0A%3Cp%3E%3Cstrong%3EDu%20siehst%20Vi
 elfalt%20als%20St%C3%A4rke%20und%20hast%20eine%20Vielfalt%20an%20Ideen%2C
 %20die%20nur%20darauf%20warten%2C%20Realit%C3%A4t%20zu%20werden%3F%20Dann
 %20komm%20zu%20Ideen.Vielfalt%2C%20unserem%20Vielfaltskongress%20am%2009.
 %20Mai%2C%20von%2012%3A00%20bis%2018%3A30%20Uhr%20in%20Gelsenkirchen.%3C%
 2Fstrong%3E%3C%2Fp%3E%0A%0A%0A%0A%3Cp%3EFreu%20Dich%20auf%20ein%20abwechs
 lungsreiches%20%3Cstrong%3EB%C3%BChnenprogramm%20mit%3C%2Fstrong%3E%20ins
 pirierenden%20G%C3%A4sten%2C%20wie%3Cstrong%3E%20Rose%20Mondy%3C%2Fstrong
 %3E%2C%20Miss%20Germany%202026%20und%20Streamerin%20of%20the%20Year%2C%20
 %3Cstrong%3EBurak%20Yilmaz%3C%2Fstrong%3E%2C%20Autor%20und%20Content%20Cr
 eator%2C%3Cstrong%3E%20Roudy%20Ali%3C%2Fstrong%3E%2C%20Moderatorin%20und%
 20Journalistin%2C%20sowie%20unseren%20Gr%C3%BCnen%20Ministerinnen%2C%20%3
 Cstrong%3EMona%20Neubaur%3C%2Fstrong%3E%20und%20%3Cstrong%3EVerena%20Sch%
 C3%A4ffer%3C%2Fstrong%3E.%20Es%20wird%20ein%20Tag%20voller%20Vernetzung%2
 0und%20Gestaltung%20unseres%20Landtagswahlprogramms%21%C2%A0%3C%2Fp%3E%0A
 %0A%0A%0A%3Cp%3EDieser%20Vielfaltskongress%20ist%20deine%20Chance%2C%20ak
 tiv%20mitzuwirken%3A%20Wir%20h%C3%B6ren%20Verb%C3%A4nden%20genau%20zu%2C%
 20tauschen%20uns%20aus%20und%20identifizieren%2C%20welche%20W%C3%BCnsche%
 20und%20Ideen%20sie%20f%C3%BCr%20eine%20gerechtere%20Politik%20haben.%20I
 n%20spannenden%20Workshops%20gestalten%20wir%20zusammen%20konkrete%20Proj
 ekte%2C%20die%20das%20Leben%20von%20Menschen%20mit%20Diskriminierungserfa
 hrungen%20wirklich%20verbessern%20k%C3%B6nnen.%20Deine%20Perspektive%20is
 t%20wichtig%2C%20ob%20mit%20oder%20ohne%20Diskriminierungserfahrung.%20De
 ine%20Stimme%20z%C3%A4hlt%20%E2%80%93%20der%20Vielfaltskongress%20steht%2
 0allen%20Menschen%20offen%2C%20die%20mitgestalten%2C%20sich%20mit%20Vielf
 altsmanager%3Cem%3Einnen%20unseres%20Landes%20und%20Gr%C3%BCnen%20Entsche
 idungstr%C3%A4ger%3C%2Fem%3Einnen%20vernetzen%20oder%20einfach%20zuh%C3%B
 6ren%20und%20lernen%20wollen.%3C%2Fp%3E%0A%0A%0A%0A%3Cp%3E%3Cstrong%3EKom
 m%20vorbei%2C%20bring%20deine%20Perspektive%20ein%20und%20lass%20uns%20ge
 meinsam%20dar%C3%BCber%20sprechen%2C%20wie%20wir%20NRW%20noch%20besser%20
 machen%20k%C3%B6nnen.%3C%2Fstrong%3E%3C%2Fp%3E%0A%0A%0A%0A%3Cp%3E%E2%9E%A
 1%EF%B8%8F%20%3Ca%20href%3D%22https%3A%2F%2Fgruene-nrw.de%2Fvielfaltskong
 ress-2026%2F%22%20target%3D%22_blank%22%20rel%3D%22noreferrer%20noopener%
 22%3EAlle%20Infos%20und%20Anmeldung%20hier%3C%2Fa%3E%3C%2Fp%3E%0A%0A%0A%0
 A%3Cp%3E%3C%2Fp%3E%0A%0A%0A%0A%3Cp%3E%3C%2Fp%3E%0A":Du siehst Vielfalt al
 s Stärke und hast eine Vielfalt an Ideen\, die nur darauf warten\, Reali
 tät zu werden? Dann komm zu Ideen.Vielfalt\, unserem Vielfaltskongress a
 m 09. Mai\, von 12:00 bis 18:30 Uhr in Gelsenkirchen.\n\nFreu Dich auf ei
 n abwechslungsreiches Bühnenprogramm mit inspirierenden Gästen\, wie Ro
 se Mondy\, Miss Germany 2026 und Streamerin of the Year\, Burak Yilmaz\, 
 Autor und Content Creator\, Roudy Ali\, Moderatorin und Journalistin\, so
 wie unseren Grünen Ministerinnen\, Mona Neubaur und Verena Schäffer. Es
  wird ein Tag voller Vernetzung und Gestaltung unseres Landtagswahlprogra
 mms! \n\nDieser Vielfaltskongress ist deine Chance\, aktiv mitzuwirken: 
 Wir hören Verbänden genau zu\, tauschen uns aus und identifizieren\, we
 lche Wünsche und Ideen sie für eine gerechtere Politik haben. In spanne
 nden Workshops gestalten wir zusammen konkrete Projekte\, die das Leben v
 on Menschen mit Diskriminierungserfahrungen wirklich verbessern können. 
 Deine Perspektive ist wichtig\, ob mit oder ohne Diskriminierungserfahrun
 g. Deine Stimme zählt – der Vielfaltskongress steht allen Menschen off
 en\, die mitgestalten\, sich mit Vielfaltsmanagerinnen unseres Landes und
  Grünen Entscheidungsträgerinnen vernetzen oder einfach zuhören und le
 rnen wollen.\n\nKomm vorbei\, bring deine Perspektive ein und lass uns ge
 meinsam darüber sprechen\, wie wir NRW noch besser machen können.\n\n
 ➡️ Alle Infos und Anmeldung hier
CLASS:PUBLIC
DTSTART;TZID=Europe/Berlin:20260509T110000
DTEND;TZID=Europe/Berlin:20260509T180000
DTSTAMP:20260424T154001
END:VEVENT
BEGIN:VEVENT
UID:b5b023a732ffcd886becaf27a4b9c9b8@gruenege.de
URL;VALUE=URI:https://gruenege.de/termine/gruener-stammtisch-6/
LOCATION:ROSI, Weberstraße 18, Gelsenkirchen
SUMMARY:Grüner Stammtisch
DESCRIPTION;ALTREP="data:text/html,%0A%3Cp%3EDer%20gr%C3%BCne%20Stammtisc
 h%20ist%20der%20beliebte%20Treffpunkt%20f%C3%BCr%20Begegnung%20und%20Aust
 ausch.%20In%20%28ber%C3%BCchtigt%29%20lockerer%20Runde%20k%C3%B6nnen%20hi
 er%20Themen%2C%20die%20auf%20den%20ber%C3%BChmten%20N%C3%A4geln%20brennen
 %2C%20diskutiert%20und%20verhandelt%20werden.%20So%20seri%C3%B6s%20wie%20
 n%C3%B6tig%2C%20aber%20ebenso%20heiter%20und%20ausgelassen%20wie%20m%C3%B
 6glich.%3C%2Fp%3E%0A%0A%0A%0A%3Cp%3EGleichzeitig%20aber%20bietet%20der%20
 Stammtisch%20immer%20ausreichend%20Gelegenheit%2C%20auch%20jenseits%20all
 er%20%28gr%C3%BCnen%29%20politischen%20Exkursionen%20und%20Exkurse%2C%20f
 eine%20und%20sinnstiftende%20Gespr%C3%A4che%20%E2%80%9E%C3%BCber%20Gott%2
 0und%20die%20Welt%E2%80%9C%20zu%20f%C3%BChren.%3C%2Fp%3E%0A%0A%0A%0A%3Cp%
 3E%3Cstrong%3EDu%20willst%20mitreden%3F%3Cbr%3EDu%20hast%20Ideen%20f%C3%B
 Cr%20unsere%20Stadt%20oder%20einfach%20Lust%20auf%20gute%20Gespr%C3%A4che
 %20in%20entspannter%20Runde%3F%3C%2Fstrong%3E%3C%2Fp%3E%0A%0A%0A%0A%3Cp%3
 E%3Cstrong%3EOb%20Mitglied%2C%20Unterst%C3%BCtzer%2Ain%20oder%20einfach%2
 0neugierig%20%E2%80%93%20alle%20sind%20willkommen.%20%3C%2Fstrong%3E%F0%9
 F%92%9A%3Cbr%3ELass%20uns%20gemeinsam%20%C3%BCber%20aktuelle%20Themen%20s
 prechen%2C%20Pl%C3%A4ne%20schmieden%20und%20neue%20Perspektiven%20teilen.
 %3C%2Fp%3E%0A%0A%0A%0A%3Cp%3E%3C%2Fp%3E%0A":Der grüne Stammtisch ist der
  beliebte Treffpunkt für Begegnung und Austausch. In (berüchtigt) locke
 rer Runde können hier Themen\, die auf den berühmten Nägeln brennen\, 
 diskutiert und verhandelt werden. So seriös wie nötig\, aber ebenso hei
 ter und ausgelassen wie möglich.\n\nGleichzeitig aber bietet der Stammti
 sch immer ausreichend Gelegenheit\, auch jenseits aller (grünen) politis
 chen Exkursionen und Exkurse\, feine und sinnstiftende Gespräche „übe
 r Gott und die Welt“ zu führen.\n\nDu willst mitreden?Du hast Ideen f
 ür unsere Stadt oder einfach Lust auf gute Gespräche in entspannter Run
 de?\n\nOb Mitglied\, Unterstützer*in oder einfach neugierig – alle sin
 d willkommen. 💚Lass uns gemeinsam über aktuelle Themen sprechen\, Pl
 äne schmieden und neue Perspektiven teilen.
CLASS:PUBLIC
DTSTART;TZID=Europe/Berlin:20260528T183000
DTEND;TZID=Europe/Berlin:20260528T193000
DTSTAMP:20260424T154001
END:VEVENT
END:VCALENDAR